BEGIN:VCALENDAR
VERSION:2.0
PRODID:-//ChamberMaster//Event Calendar 2.0//EN
METHOD:PUBLISH
X-PUBLISHED-TTL:P3D
REFRESH-INTERVAL:P3D
CALSCALE:GREGORIAN
BEGIN:VEVENT
DTSTART:20110108T160000Z
DTEND:20110108T200000Z
X-MICROSOFT-CDO-ALLDAYEVENT:FALSE
SUMMARY:Child Safety Seat Free Check-up Event
DESCRIPTION:Child Safety Seat Free Check-Up Event\n\nSaturday\, January 8\n\n10 a.m. - 2 p.m.\n\n\n\nFairbury Fire Department\, 619 D Street\, Fairbury\n\n\n\nAppointments required.  Chall Sharon Vandegrift\, Jefferson Community Health Center\, 402-729-3351\, ext 4307
X-ALT-DESC;FMTTYPE=text/html:Child Safety Seat Free Check-Up Event<br />\nSaturday\, January 8<br />\n10 a.m.&nbsp\;- 2 p.m.<br />\n<br />\nFairbury Fire Department\, 619 D Street\, Fairbury<br />\n<br />\nAppointments required.&nbsp\; Chall Sharon Vandegrift\, Jefferson Community Health Center\, 402-729-3351\, ext 4307
LOCATION:
UID:e.41.3165
SEQUENCE:3
DTSTAMP:20260425T003727Z
URL:https://business.beatricechamber.com/events/details/child-safety-seat-free-check-up-event-01-08-2011-3165
END:VEVENT

END:VCALENDAR
