BEGIN:VCALENDAR
VERSION:2.0
PRODID:-//ChamberMaster//Event Calendar 2.0//EN
METHOD:PUBLISH
X-PUBLISHED-TTL:P3D
REFRESH-INTERVAL:P3D
CALSCALE:GREGORIAN
BEGIN:VEVENT
DTSTART:20120310T163000Z
DTEND:20120310T193000Z
X-MICROSOFT-CDO-ALLDAYEVENT:FALSE
SUMMARY:Child Safety seat free check-up event
DESCRIPTION:Walk-ins welcome\; will be checked as time allows\n\n	Appointmnets to Sharon Vandergrift at Jefferson Community Health Center. If it is determined that a child needs a different seat to ride more safely\, a seat will be provided for a suggested donation amount\, subject to seat availability
X-ALT-DESC;FMTTYPE=text/html:<p>\n	Walk-ins welcome\; will be checked as time allows</p>\n<p>\n	Appointmnets to Sharon Vandergrift at Jefferson Community Health Center. If it is determined that a child needs a different seat to ride more safely\, a seat will be provided for a suggested donation amount\, subject to seat availability</p>\n
LOCATION:Fairbury Fire Hall\, 612 D St.\, Fairbury
UID:e.41.5392
SEQUENCE:3
DTSTAMP:20260422T173322Z
URL:https://business.beatricechamber.com/events/details/child-safety-seat-free-check-up-event-03-10-2012-5392
END:VEVENT

END:VCALENDAR
