BEGIN:VCALENDAR
VERSION:2.0
PRODID:-//ChamberMaster//Event Calendar 2.0//EN
METHOD:PUBLISH
X-PUBLISHED-TTL:P3D
REFRESH-INTERVAL:P3D
CALSCALE:GREGORIAN
BEGIN:VEVENT
DTSTART:20110310T153000Z
DTEND:20110311T000000Z
X-MICROSOFT-CDO-ALLDAYEVENT:FALSE
SUMMARY:Children's Guild 50th birthday celebration
DESCRIPTION:Coffee and Cookies\n\n\n\nLocation: Bargain Box\, 117 S. Fifth St.\, Beatrice.\n\nChamber of Commerce ribbon cutting
X-ALT-DESC;FMTTYPE=text/html:Coffee and Cookies<br />\n<br />\nLocation: Bargain Box\, 117 S. Fifth St.\, Beatrice.<br />\nChamber of Commerce ribbon cutting
LOCATION:
UID:e.41.4217
SEQUENCE:3
DTSTAMP:20260424T211830Z
URL:https://business.beatricechamber.com/events/details/children-s-guild-50th-birthday-celebration-03-10-2011-4217
END:VEVENT

END:VCALENDAR
