BEGIN:VCALENDAR
VERSION:2.0
PRODID:-//ChamberMaster//Event Calendar 2.0//EN
METHOD:PUBLISH
X-PUBLISHED-TTL:P3D
REFRESH-INTERVAL:P3D
CALSCALE:GREGORIAN
BEGIN:VEVENT
DTSTART:20110312T153000Z
DTEND:20110312T183000Z
X-MICROSOFT-CDO-ALLDAYEVENT:FALSE
SUMMARY:Children's Guild 50th birthday celebration
DESCRIPTION:To celebrate 50 years of service to the community\, Coffee and Cookies...\n\n\n\nLocation: Bargain Box\, 117 S. Fifth St.\, Beatrice
X-ALT-DESC;FMTTYPE=text/html:To celebrate 50 years of service to the community\, Coffee and Cookies...<br />\n<br />\n<strong>Location: </strong>Bargain Box\, 117 S. Fifth St.\, Beatrice<br />\n
LOCATION:
UID:e.41.4219
SEQUENCE:3
DTSTAMP:20260424T211830Z
URL:https://business.beatricechamber.com/events/details/children-s-guild-50th-birthday-celebration-03-12-2011-4219
END:VEVENT

END:VCALENDAR
