BEGIN:VCALENDAR
VERSION:2.0
PRODID:-//ChamberMaster//Event Calendar 2.0//EN
METHOD:PUBLISH
X-PUBLISHED-TTL:P3D
REFRESH-INTERVAL:P3D
CALSCALE:GREGORIAN
BEGIN:VEVENT
DTSTART:20090801T003000Z
DTEND:20090801T020000Z
X-MICROSOFT-CDO-ALLDAYEVENT:FALSE
SUMMARY:Childrens Theatre Production ''James and the Giant Peach''
DESCRIPTION:Hollywood Cast - Fridiay 7:30 pm Box Office opens from 6 pm - 9 pmJuly 20-24 & July 27-29 AND1 Hour before each performanceOr call 228-1801 for tickets
X-ALT-DESC;FMTTYPE=text/html:<div>Hollywood Cast - Fridiay 7:30 pm</div><div>&nbsp\;</div><div>Box Office opens from 6 pm - 9 pm</div><div>July 20-24 &amp\; July 27-29 AND</div><div>1 Hour before each performance</div><div>Or call 228-1801 for tickets</div>
LOCATION:
UID:e.41.1281
SEQUENCE:3
DTSTAMP:20260426T030535Z
URL:https://business.beatricechamber.com/events/details/childrens-theatre-production-james-and-the-giant-peach-07-31-2009-1281
END:VEVENT

END:VCALENDAR
