BEGIN:VCALENDAR
VERSION:2.0
PRODID:-//ChamberMaster//Event Calendar 2.0//EN
METHOD:PUBLISH
X-PUBLISHED-TTL:P3D
REFRESH-INTERVAL:P3D
CALSCALE:GREGORIAN
BEGIN:VEVENT
DTSTART;VALUE=DATE:20090802
DTEND;VALUE=DATE:20090803
TRANSP:TRANSPARENT
X-MICROSOFT-CDO-ALLDAYEVENT:TRUE
SUMMARY:Childrens Theatre Production ''James and the Giant Peach''
DESCRIPTION:Broadway Cast - Sunday 2:00 pmHollywood Cast - Sunday 7:30 pm Box Office opens from 6 pm - 9 pmJuly 20-24 & July 27-29 AND1 Hour before each performanceOr call 228-1801 for tickets
X-ALT-DESC;FMTTYPE=text/html:<div>Broadway Cast - Sunday 2:00 pm</div><div><div>Hollywood Cast - Sunday 7:30 pm</div></div><div>&nbsp\;</div><div>Box Office opens from 6 pm - 9 pm</div><div>July 20-24 &amp\; July 27-29 AND</div><div>1 Hour before each performance</div><div>Or call 228-1801 for tickets</div>
LOCATION:
UID:e.41.1283
SEQUENCE:3
DTSTAMP:20260426T012312Z
URL:https://business.beatricechamber.com/events/details/childrens-theatre-production-james-and-the-giant-peach-08-02-2009-1283
END:VEVENT

END:VCALENDAR
