BEGIN:VCALENDAR
VERSION:2.0
PRODID:-//ChamberMaster//Event Calendar 2.0//EN
METHOD:PUBLISH
X-PUBLISHED-TTL:P3D
REFRESH-INTERVAL:P3D
CALSCALE:GREGORIAN
BEGIN:VEVENT
DTSTART;VALUE=DATE:20120204
DTEND;VALUE=DATE:20120205
TRANSP:TRANSPARENT
X-MICROSOFT-CDO-ALLDAYEVENT:TRUE
SUMMARY:Chocolate Lover's Shopping Day Extravaganza
DESCRIPTION:2nd Annual Chocolate Lover's Shopping Day Extravaganza!\n\n\n\nSaturday\, February 4\n\n9 am - 2 pm\n\n\n\nDowntown Beatrice\n\n\n\nRegister at the Lang Building\, southwest corner of Sixth and Ella. \n\n\n\nParticipation is free.  First 100 registrants will receive a bag filled with coupons\; more than 40 people will win prizes like Main Street Money or other Valentine gifts.  Free piece of chocolate at each participating location for registered participants.  Chocolate freshly made by Shirley Mae's at Starlight Candles in Beatrice.
X-ALT-DESC;FMTTYPE=text/html:2nd Annual Chocolate Lover&#39\;s Shopping Day Extravaganza!<br />\n<br />\nSaturday\, February 4<br />\n9 am - 2 pm<br />\n<br />\nDowntown Beatrice<br />\n<br />\nRegister at the Lang Building\, southwest corner of Sixth and Ella.&nbsp\;<br />\n<br />\nParticipation is free.&nbsp\; First 100 registrants will receive a bag filled with coupons\; more than 40 people will win prizes like Main Street Money or other Valentine gifts.&nbsp\; Free piece of chocolate at each participating location for registered participants.&nbsp\; Chocolate freshly made by Shirley Mae&#39\;s at Starlight Candles in Beatrice.
LOCATION:
UID:e.41.5294
SEQUENCE:3
DTSTAMP:20260422T185423Z
URL:https://business.beatricechamber.com/events/details/chocolate-lover-s-shopping-day-extravaganza-02-04-2012-5294
END:VEVENT

END:VCALENDAR
