BEGIN:VCALENDAR
VERSION:2.0
PRODID:-//ChamberMaster//Event Calendar 2.0//EN
METHOD:PUBLISH
X-PUBLISHED-TTL:P3D
REFRESH-INTERVAL:P3D
CALSCALE:GREGORIAN
BEGIN:VEVENT
DTSTART;VALUE=DATE:20110313
DTEND;VALUE=DATE:20110314
TRANSP:TRANSPARENT
X-MICROSOFT-CDO-ALLDAYEVENT:TRUE
SUMMARY:Choir and Vocal Music Ensemble Concert
DESCRIPTION:Southeast Community College's Choir and "After the Storm" vocal music ensemble concert.\n\n\n\nStarts at 7 p.m. \, Centenary United Methodist Church\, 608 Elk St.\, Beatrice. Free and open to the public.
X-ALT-DESC;FMTTYPE=text/html:Southeast Community College&#39\;s Choir and &quot\;After the Storm&quot\; vocal music ensemble concert.<br />\n<br />\nStarts at 7 p.m. \, Centenary United Methodist Church\, 608 Elk St.\, Beatrice. Free and open to the public.
LOCATION:
UID:e.41.4221
SEQUENCE:3
DTSTAMP:20260424T211948Z
URL:https://business.beatricechamber.com/events/details/choir-and-vocal-music-ensemble-concert-03-13-2011-4221
END:VEVENT

END:VCALENDAR
