BEGIN:VCALENDAR
VERSION:2.0
PRODID:-//ChamberMaster//Event Calendar 2.0//EN
METHOD:PUBLISH
X-PUBLISHED-TTL:P3D
REFRESH-INTERVAL:P3D
CALSCALE:GREGORIAN
BEGIN:VEVENT
DTSTART:20090726T220000Z
DTEND:20090727T010000Z
X-MICROSOFT-CDO-ALLDAYEVENT:FALSE
SUMMARY:Christian Party - Live Music
DESCRIPTION:Christian Party with Live Music & and Pot LuckSaturday\, July 26thHuston's Furniture Mart5:00 - 8:00 pm Hamburgers & Hot dogs Free.Come have some fun!! For more info call:Nick at 402-239-1996
X-ALT-DESC;FMTTYPE=text/html:<div>Christian Party with Live Music &amp\; and Pot Luck</div><div>Saturday\, July 26th</div><div>Huston's Furniture Mart</div><div>5:00 - 8:00 pm</div><div>&nbsp\;</div><div>Hamburgers &amp\; Hot dogs Free.</div><div>Come have some fun!!</div><div>&nbsp\;</div><div>For more info call:</div><div>Nick at 402-239-1996</div>
LOCATION:
UID:e.41.1318
SEQUENCE:3
DTSTAMP:20260426T030240Z
URL:https://business.beatricechamber.com/events/details/christian-party-live-music-07-26-2009-1318
END:VEVENT

END:VCALENDAR
