BEGIN:VCALENDAR
VERSION:2.0
PRODID:-//ChamberMaster//Event Calendar 2.0//EN
METHOD:PUBLISH
X-PUBLISHED-TTL:P3D
REFRESH-INTERVAL:P3D
CALSCALE:GREGORIAN
BEGIN:VEVENT
DTSTART:20101208T003000Z
DTEND:20101208T003000Z
X-MICROSOFT-CDO-ALLDAYEVENT:FALSE
SUMMARY:'Christmas 4 Kids'
DESCRIPTION:'Christmas 4 Kids':\n\n\n\n"Christmas 4 Kids" will be presented by the Beatrice Regional Orchestra Tuesday\, Dec. 7\, at the Hevelone Center for performing Arts at Beatrice High School\, 600 Orange Blvd.\n\n\n\nDoors will oprn at 6:30 p.m.\, with the production starting at 7 p.m.\n\nThe event features guest artists Vena Alesio\, soprano\; Kelly Meyer\, tenor\; and Jim McNeil\, narrator.\n\n\n\nAdmission is free.\n\nThe event is made possible through a grant from the Hevelone Foundation.
X-ALT-DESC;FMTTYPE=text/html:<strong><span style="font-size: 14px\;">&#39\;Christmas 4 Kids&#39\;:</span></strong><br />\n<br />\n&quot\;Christmas 4 Kids&quot\; will be presented by the Beatrice Regional Orchestra Tuesday\, Dec. 7\, at the Hevelone Center for performing Arts at Beatrice High School\, 600 Orange Blvd.<br />\n<br />\nDoors will oprn at 6:30 p.m.\, with the production starting at 7 p.m.<br />\nThe event features guest artists Vena Alesio\, soprano\; Kelly Meyer\, tenor\; and Jim McNeil\, narrator.<br />\n<br />\nAdmission is free.<br />\nThe event is made possible through a grant from the Hevelone Foundation.<br />\n
LOCATION:
UID:e.41.2886
SEQUENCE:3
DTSTAMP:20260425T014207Z
URL:https://business.beatricechamber.com/events/details/christmas-4-kids-12-07-2010-2886
END:VEVENT

END:VCALENDAR
