BEGIN:VCALENDAR
VERSION:2.0
PRODID:-//ChamberMaster//Event Calendar 2.0//EN
METHOD:PUBLISH
X-PUBLISHED-TTL:P3D
REFRESH-INTERVAL:P3D
CALSCALE:GREGORIAN
BEGIN:VEVENT
DTSTART;VALUE=DATE:20101215
DTEND;VALUE=DATE:20101216
TRANSP:TRANSPARENT
X-MICROSOFT-CDO-ALLDAYEVENT:TRUE
SUMMARY:Christmas Cheer
DESCRIPTION:Christmas Cheer\n\nwith Shirleen's Creations\n\n\n\nWednesday\, December 15\n\n9 a.m. - 4 p.m.\n\n\n\nShirleen's House - use west door\n\n1501 Garfield\n\nBeatrice\, NE \n\n\n\nCome and sit a spell.  Bring a friend.
X-ALT-DESC;FMTTYPE=text/html:Christmas Cheer<br />\nwith Shirleen&#39\;s Creations<br />\n<br />\nWednesday\, December 15<br />\n9 a.m. - 4 p.m.<br />\n<br />\nShirleen&#39\;s House - use west door<br />\n1501 Garfield<br />\nBeatrice\, NE&nbsp\;<br />\n<br />\nCome and sit a spell.&nbsp\; Bring a friend.<br />\n<br />\n
LOCATION:
UID:e.41.2900
SEQUENCE:3
DTSTAMP:20260425T014108Z
URL:https://business.beatricechamber.com/events/details/christmas-cheer-12-15-2010-2900
END:VEVENT

END:VCALENDAR
