BEGIN:VCALENDAR
VERSION:2.0
PRODID:-//ChamberMaster//Event Calendar 2.0//EN
METHOD:PUBLISH
X-PUBLISHED-TTL:P3D
REFRESH-INTERVAL:P3D
CALSCALE:GREGORIAN
BEGIN:VEVENT
DTSTART;VALUE=DATE:20091113
DTEND;VALUE=DATE:20091114
TRANSP:TRANSPARENT
X-MICROSOFT-CDO-ALLDAYEVENT:TRUE
SUMMARY:Christmas Holiday Open House Creative Arts Gallery
DESCRIPTION:Creative Arts Gallery Christmas Open House Featured Artists:  Lucky Stradley\, Depke Andres\, Roger Mohling\, PJ Copenhaver\, Wayne Bower Also:  Deb Monfelt\, Erna Beach\, Della Siems\, marilynn Yurka\, Roselyn Shaffer\, Luise Fredrichs\, Dale Boyer\, Norm Nicholson and more! Jewelry\, crafts\, gifts\, Christmas balls\, cards\, music and snacks.   Gallery will be open each Saturday from 12-4 pm through Christmas!!
X-ALT-DESC;FMTTYPE=text/html:<div style="text-align: center"><span style="font-size: medium"><span style="color: #006600"><strong>Creative Arts Gallery </strong></span></span></div><div style="text-align: center"><span style="font-size: medium"><span style="color: #006600"><strong>Christmas Open House</strong></span></span></div><div style="">&nbsp\;</div><div style=""><span style="color: #cc0000"><span style=""><span style="font-size: small">Featured Artists:&nbsp\; Lucky Stradley\, Depke Andres\, Roger Mohling\, PJ&nbsp\;Copenhaver\, Wayne Bower</span></span></span></div><div style="">&nbsp\;</div><div style=""><span style="color: #cc0000"><span style="font-size: small">Also:&nbsp\; Deb Monfelt\, Erna Beach\, Della Siems\, marilynn Yurka\, Roselyn Shaffer\, Luise Fredrichs\, Dale Boyer\, Norm Nicholson and more!</span></span></div><div style="">&nbsp\;</div><div style=""><span style="color: #cc0000"><span style="font-size: small">Jewelry\, crafts\, gifts\, Christmas balls\, cards\, music and snacks.&nbsp\; </span></span></div><div style="">&nbsp\;</div><div style=""><span style="color: #cc0000"><span style=""><span style="font-size: small">Gallery will be open each Saturday from 12-4 pm through Christmas!!</span></span></span></div>
LOCATION:
UID:e.41.1429
SEQUENCE:3
DTSTAMP:20260425T205442Z
URL:https://business.beatricechamber.com/events/details/christmas-holiday-open-house-creative-arts-gallery-11-13-2009-1429
END:VEVENT

END:VCALENDAR
