BEGIN:VCALENDAR
VERSION:2.0
PRODID:-//ChamberMaster//Event Calendar 2.0//EN
METHOD:PUBLISH
X-PUBLISHED-TTL:P3D
REFRESH-INTERVAL:P3D
CALSCALE:GREGORIAN
BEGIN:VEVENT
DTSTART;VALUE=DATE:20111201
DTEND;VALUE=DATE:20111205
TRANSP:TRANSPARENT
X-MICROSOFT-CDO-ALLDAYEVENT:TRUE
SUMMARY:Christmas Musical - Because of Grace
DESCRIPTION:The Creative Arts Ministry of Christ Community Church presents:\n\n"Because of Grace"\n\n\n\nThursday\, December 1 at 7 pm\n\nFriday\, December 2 at 7 pm\n\nSaturday\, December 3 at 7 pm\n\nSunday\, December 4 at 2:30 pm\n\n\n\nChrist Community Church\n\n2727 Lincoln Blvd\n\nBeatrice\, NE  68310\n\n\n\nFREE ADMISSION\n\n\n\nFollow Cora McGinty on Twitter and Facebook to find out what's going on during rehearsals and the show!
X-ALT-DESC;FMTTYPE=text/html:The Creative Arts Ministry of Christ Community Church presents:<br />\n&quot\;Because of Grace&quot\;<br />\n<br />\nThursday\, December 1 at 7 pm<br />\nFriday\, December 2 at 7 pm<br />\nSaturday\, December 3 at 7 pm<br />\nSunday\, December 4 at 2:30 pm<br />\n<br />\nChrist Community Church<br />\n2727 Lincoln Blvd<br />\nBeatrice\, NE&nbsp\; 68310<br />\n<br />\nFREE ADMISSION<br />\n<br />\nFollow Cora McGinty on Twitter and Facebook to find out what&#39\;s going on during rehearsals and the show!
LOCATION:
UID:e.41.5242
SEQUENCE:3
DTSTAMP:20260424T083522Z
URL:https://business.beatricechamber.com/events/details/christmas-musical-because-of-grace-12-01-2011-5242
END:VEVENT

END:VCALENDAR
