BEGIN:VCALENDAR
VERSION:2.0
PRODID:-//ChamberMaster//Event Calendar 2.0//EN
METHOD:PUBLISH
X-PUBLISHED-TTL:P3D
REFRESH-INTERVAL:P3D
CALSCALE:GREGORIAN
BEGIN:VEVENT
DTSTART;VALUE=DATE:20101202
DTEND;VALUE=DATE:20101206
TRANSP:TRANSPARENT
X-MICROSOFT-CDO-ALLDAYEVENT:TRUE
SUMMARY:Christmas Musical - "The Gift"
DESCRIPTION:Time\n			\n				\n					THE GIFT - A Christmas Musical \n\n					\n\n					Thursday\, December 2 at 7:00pm - December 5 at 2:30pm\n			\n		\n		\n			\n				\n			\n		\n	\n	\n		\n			\n				Location\n			\n				Christ Community Church\n				\n					2727 Lincoln Blvd.\n				\n					Beatrice\, NE\n			\n		\n		\n			\n				\n			\n		\n	\n	\n		\n			\n				 \n			\n				\n					 \n			\n		\n		\n			\n				\n			\n		\n	\n	\n		\n			\n				More Info\n			\n				A Broadway style musical written by Kevin & Tami Boesiger for the Creative Arts Ministry at Christ Community Church.\n\n				\n\n				Thursday\, December 2nd at 7:00 p.m.\n\n				Friday\, December 3rd at 7:00 p.m.\n\n				Saturday\, December 4th at 7:00 p.m.\n\n				&\n\n				Sunday\, December 5th at 2:30 p.m.\n\n				\n\n				FREE ADMISSION!!!
X-ALT-DESC;FMTTYPE=text/html:<table class="uiInfoTable mvm profileInfoTable mvm mvm">\n	<tbody>\n		<tr>\n			<th class="label">\n				<br />\n				<br />\n				Time</th>\n			<td class="data">\n				<div>\n					<span style="font-size: 16px"><strong>THE GIFT - A Christmas Musical </strong></span><br />\n					<br />\n					Thursday\, December 2 at 7:00pm - December 5 at 2:30pm</div>\n			</td>\n		</tr>\n		<tr class="spacer">\n			<td colspan="2">\n				<hr />\n			</td>\n		</tr>\n	</tbody>\n	<tbody>\n		<tr>\n			<th class="label">\n				Location</th>\n			<td class="data">\n				Christ Community Church\n				<div>\n					2727 Lincoln Blvd.</div>\n				<div>\n					Beatrice\, NE</div>\n			</td>\n		</tr>\n		<tr class="spacer">\n			<td colspan="2">\n				<hr />\n			</td>\n		</tr>\n	</tbody>\n	<tbody>\n		<tr>\n			<th class="label">\n				&nbsp\;</th>\n			<td class="data">\n				<div class="uiCollapsedList uiCollapsedListHidden" id="u727390_3">\n					&nbsp\;</div>\n			</td>\n		</tr>\n		<tr class="spacer">\n			<td colspan="2">\n				<hr />\n			</td>\n		</tr>\n	</tbody>\n	<tbody>\n		<tr>\n			<th class="label">\n				More Info</th>\n			<td class="data">\n				A Broadway style musical written by Kevin &amp\; Tami Boesiger for the Creative Arts Ministry at Christ Community Church.<br />\n				<br />\n				Thursday\, December 2nd at 7:00 p.m.<br />\n				Friday\, December 3rd at 7:00 p.m.<br />\n				Saturday\, December 4th at 7:00 p.m.<br />\n				&amp\;<br />\n				Sunday\, December 5th at 2:30 p.m.<br />\n				<br />\n				FREE ADMISSION!!!</td>\n		</tr>\n	</tbody>\n</table>\n
LOCATION:
UID:e.41.2758
SEQUENCE:3
DTSTAMP:20260425T014918Z
URL:https://business.beatricechamber.com/events/details/christmas-musical-the-gift-12-02-2010-2758
END:VEVENT

END:VCALENDAR
