BEGIN:VCALENDAR
VERSION:2.0
PRODID:-//ChamberMaster//Event Calendar 2.0//EN
METHOD:PUBLISH
X-PUBLISHED-TTL:P3D
REFRESH-INTERVAL:P3D
CALSCALE:GREGORIAN
BEGIN:VEVENT
DTSTART;VALUE=DATE:20111104
DTEND;VALUE=DATE:20111107
TRANSP:TRANSPARENT
X-MICROSOFT-CDO-ALLDAYEVENT:TRUE
SUMMARY:Christmas Open House @ Dee's Hallmark
DESCRIPTION:Christmas Open House\n\nDee's Hallmark\n\n\n\nFriday\, Saturday & Sunday\, November 4\, 5 & 6\n\n\n\n609 Court Street\, Downtown\, 402-228-1500\n\nIndian Creek Mall\, 402-228-3908
X-ALT-DESC;FMTTYPE=text/html:Christmas Open House<br />\nDee&#39\;s Hallmark<br />\n<br />\nFriday\, Saturday &amp\; Sunday\, November 4\, 5 &amp\; 6<br />\n<br />\n609 Court Street\, Downtown\, 402-228-1500<br />\nIndian Creek Mall\, 402-228-3908<br />\n
LOCATION:
UID:e.41.5226
SEQUENCE:3
DTSTAMP:20260424T100012Z
URL:https://business.beatricechamber.com/events/details/christmas-open-house-dee-s-hallmark-11-04-2011-5226
END:VEVENT

END:VCALENDAR
