BEGIN:VCALENDAR
VERSION:2.0
PRODID:-//ChamberMaster//Event Calendar 2.0//EN
METHOD:PUBLISH
X-PUBLISHED-TTL:P3D
REFRESH-INTERVAL:P3D
CALSCALE:GREGORIAN
BEGIN:VEVENT
DTSTART;VALUE=DATE:20101104
DTEND;VALUE=DATE:20101108
TRANSP:TRANSPARENT
X-MICROSOFT-CDO-ALLDAYEVENT:TRUE
SUMMARY:Christmas Open House @ Dee's Hallmark Stores
DESCRIPTION:Christmas Open House\n\nThursday\, November 4 thru Sunday\, November 7\n\n\n\nCome join us Thursday night\n\n5:30 - 7:00 p.m.\n\n\n\nEnjoy free hot dogs & spin the KWBE Prize Wheel at our Live Remote!\n\n\n\nDee's Hallmark Stores\n\nIndian Creek Mall\, Beatrice\, NE\n\n402-228-3908
X-ALT-DESC;FMTTYPE=text/html:Christmas Open House<br />\nThursday\, November 4 thru Sunday\, November 7<br />\n<br />\nCome join us Thursday night<br />\n5:30 - 7:00 p.m.<br />\n<br />\nEnjoy free hot dogs &amp\; spin the KWBE Prize Wheel at our Live Remote!<br />\n<br />\nDee&#39\;s Hallmark Stores<br />\nIndian Creek Mall\, Beatrice\, NE<br />\n402-228-3908
LOCATION:
UID:e.41.2772
SEQUENCE:3
DTSTAMP:20260425T032749Z
URL:https://business.beatricechamber.com/events/details/christmas-open-house-dee-s-hallmark-stores-11-04-2010-2772
END:VEVENT

END:VCALENDAR
