BEGIN:VCALENDAR
VERSION:2.0
PRODID:-//ChamberMaster//Event Calendar 2.0//EN
METHOD:PUBLISH
X-PUBLISHED-TTL:P3D
REFRESH-INTERVAL:P3D
CALSCALE:GREGORIAN
BEGIN:VEVENT
DTSTART:20101113T150000Z
DTEND:20101114T000000Z
X-MICROSOFT-CDO-ALLDAYEVENT:FALSE
SUMMARY:Christmas Present Book Sale
DESCRIPTION:Christmas Present Book Sale:\n\n\n\n9a.m.-6 p.m.\, Beatrice Public Library. Sponsored by Friends of the Library. Hardback and paperback fiction\, young adult titles\, larege print books\, craft books\, vintage books\, magazines.
X-ALT-DESC;FMTTYPE=text/html:<strong><span style="font-size: 14px">Christmas Present Book Sale:</span></strong><br />\n<br />\n9a.m.-6 p.m.\, Beatrice Public Library. Sponsored by Friends of the Library. Hardback and paperback fiction\, young adult titles\, larege print books\, craft books\, vintage books\, magazines.
LOCATION:
UID:e.41.2808
SEQUENCE:3
DTSTAMP:20260425T032739Z
URL:https://business.beatricechamber.com/events/details/christmas-present-book-sale-11-13-2010-2808
END:VEVENT

END:VCALENDAR
