BEGIN:VCALENDAR
VERSION:2.0
PRODID:-//ChamberMaster//Event Calendar 2.0//EN
METHOD:PUBLISH
X-PUBLISHED-TTL:P3D
REFRESH-INTERVAL:P3D
CALSCALE:GREGORIAN
BEGIN:VEVENT
DTSTART:20101114T200000Z
DTEND:20101114T230000Z
X-MICROSOFT-CDO-ALLDAYEVENT:FALSE
SUMMARY:Christmas Present Book Sale
DESCRIPTION:Christmas Present Book Sale:\n\n\n\n2-5 p.m.\, beatrice Public Library. Sponsored by Friends of the Library. Hardback and paperback fiction\, young adult titles\, large print books\, craft books\, vintage books\, magazines. 223-3584
X-ALT-DESC;FMTTYPE=text/html:<strong>Christmas Present Book Sale:</strong><br />\n<br />\n2-5 p.m.\, beatrice Public Library. Sponsored by Friends of the Library. Hardback and paperback fiction\, young adult titles\, large print books\, craft books\, vintage books\, magazines. 223-3584
LOCATION:
UID:e.41.2811
SEQUENCE:3
DTSTAMP:20260425T032530Z
URL:https://business.beatricechamber.com/events/details/christmas-present-book-sale-11-14-2010-2811
END:VEVENT

END:VCALENDAR
