BEGIN:VCALENDAR
VERSION:2.0
PRODID:-//ChamberMaster//Event Calendar 2.0//EN
METHOD:PUBLISH
X-PUBLISHED-TTL:P3D
REFRESH-INTERVAL:P3D
CALSCALE:GREGORIAN
BEGIN:VEVENT
DTSTART;VALUE=DATE:20110507
DTEND;VALUE=DATE:20110508
TRANSP:TRANSPARENT
X-MICROSOFT-CDO-ALLDAYEVENT:TRUE
SUMMARY:City-wide Garage Sales Odell
DESCRIPTION:Odell City-Wide Garage Sales\n\nOdell\, Nebraska\n\n\n\nSaturday\, May 7\n\n8 am - ???\n\n\n\nMaps will be available the morning of the sales at Odell Market\, State Bank of Odell and Sutton Repair.\n\nSponsored by OACE (Odell Area Community Enrichment)
X-ALT-DESC;FMTTYPE=text/html:Odell City-Wide Garage Sales<br />\nOdell\, Nebraska<br />\n<br />\nSaturday\, May 7<br />\n8 am - ???<br />\n<br />\nMaps will be available the morning of the sales at Odell Market\, State Bank of Odell and Sutton Repair.<br />\nSponsored by OACE (Odell Area Community Enrichment)
LOCATION:
UID:e.41.4246
SEQUENCE:3
DTSTAMP:20260424T183838Z
URL:https://business.beatricechamber.com/events/details/city-wide-garage-sales-odell-05-07-2011-4246
END:VEVENT

END:VCALENDAR
