BEGIN:VCALENDAR
VERSION:2.0
PRODID:-//ChamberMaster//Event Calendar 2.0//EN
METHOD:PUBLISH
X-PUBLISHED-TTL:P3D
REFRESH-INTERVAL:P3D
CALSCALE:GREGORIAN
BEGIN:VEVENT
DTSTART;VALUE=DATE:20120922
DTEND;VALUE=DATE:20120923
TRANSP:TRANSPARENT
X-MICROSOFT-CDO-ALLDAYEVENT:TRUE
SUMMARY:Civil War re-enactment
DESCRIPTION:The First Nebraska Volunteer Infantry\, Company A\, will present a Civil War battle re-enactment\, based on the Battle of Antietam\, at the Pawnee City Historical Days. The event offers an opportunity for family fun and learning. Visitors can see an old time thresher at work\, turn the crank to help churn butter\, or try water "witching" to see whether the small tree branch will turn down for them when they walk over an underground source of water.\n\n\n\nMany more activities for the whole family. Food also available.\n\n\n\nChurch service will be held at 10:00 am in the one room country school that serves a chapel.
X-ALT-DESC;FMTTYPE=text/html:The First Nebraska Volunteer Infantry\, Company A\, will present a Civil War battle re-enactment\, based on the Battle of Antietam\, at the Pawnee City Historical Days. The event offers an opportunity for family fun and learning. Visitors can see an old time thresher at work\, turn the crank to help churn butter\, or try water &quot\;witching&quot\; to see whether the small tree branch will turn down for them when they walk over an underground source of water.<br />\n<br />\nMany more activities for the whole family. Food also available.<br />\n<br />\nChurch service will be held at 10:00 am in the one room country school that serves a chapel.
LOCATION:Pawnee City Historical Museum On the East edge of Pawnee City
UID:e.41.6850
SEQUENCE:3
DTSTAMP:20260422T090844Z
URL:https://business.beatricechamber.com/events/details/civil-war-re-enactment-09-22-2012-6850
END:VEVENT

END:VCALENDAR
