BEGIN:VCALENDAR
VERSION:2.0
PRODID:-//ChamberMaster//Event Calendar 2.0//EN
METHOD:PUBLISH
X-PUBLISHED-TTL:P3D
REFRESH-INTERVAL:P3D
CALSCALE:GREGORIAN
BEGIN:VEVENT
DTSTART;VALUE=DATE:20111103
DTEND;VALUE=DATE:20111106
TRANSP:TRANSPARENT
X-MICROSOFT-CDO-ALLDAYEVENT:TRUE
SUMMARY:Clabaugh Pharmacy Holiday Open House
DESCRIPTION:Clabaugh Pharmacy Holiday Open House\n\n\n\nThursday thru Saturday\, November 3 - 5\n\n\n\n501 Court Street\, Beatrice\n\n402-223-3591
X-ALT-DESC;FMTTYPE=text/html:Clabaugh Pharmacy Holiday Open House<br />\n<br />\nThursday thru Saturday\, November 3 - 5<br />\n<br />\n501 Court Street\, Beatrice<br />\n402-223-3591
LOCATION:
UID:e.41.5228
SEQUENCE:3
DTSTAMP:20260424T100003Z
URL:https://business.beatricechamber.com/events/details/clabaugh-pharmacy-holiday-open-house-11-03-2011-5228
END:VEVENT

END:VCALENDAR
