BEGIN:VCALENDAR
VERSION:2.0
PRODID:-//ChamberMaster//Event Calendar 2.0//EN
METHOD:PUBLISH
X-PUBLISHED-TTL:P3D
REFRESH-INTERVAL:P3D
CALSCALE:GREGORIAN
BEGIN:VEVENT
DTSTART;VALUE=DATE:20101104
DTEND;VALUE=DATE:20101107
TRANSP:TRANSPARENT
X-MICROSOFT-CDO-ALLDAYEVENT:TRUE
SUMMARY:Clabaugh Pharmacy Holiday Open House
DESCRIPTION:Clabaugh Pharmacy\n\n\n\nHoliday Open House\n\n\n\nNovember 4-6\n\n\n\n\n\n501 Court st.\n\nBeatrice\, NE\n\n402-223-3591
X-ALT-DESC;FMTTYPE=text/html:<strong><span style="font-size: 14px">Clabaugh Pharmacy</span></strong><br />\n<br />\nHoliday Open House<br />\n<br />\nNovember 4-6<br />\n<br />\n<br />\n501 Court st.<br />\nBeatrice\, NE<br />\n402-223-3591
LOCATION:
UID:e.41.2769
SEQUENCE:3
DTSTAMP:20260425T032751Z
URL:https://business.beatricechamber.com/events/details/clabaugh-pharmacy-holiday-open-house-11-04-2010-2769
END:VEVENT

END:VCALENDAR
