BEGIN:VCALENDAR
VERSION:2.0
PRODID:-//ChamberMaster//Event Calendar 2.0//EN
METHOD:PUBLISH
X-PUBLISHED-TTL:P3D
REFRESH-INTERVAL:P3D
CALSCALE:GREGORIAN
BEGIN:VEVENT
DTSTART;VALUE=DATE:20091231
DTEND;VALUE=DATE:20100101
TRANSP:TRANSPARENT
X-MICROSOFT-CDO-ALLDAYEVENT:TRUE
SUMMARY:Classic's Annual New Year's Eve Party
DESCRIPTION:Enjoy our Dinner buffet\, with an array of dishes and appetizers.  Champagne Toast at Midnight.
X-ALT-DESC;FMTTYPE=text/html:Enjoy our Dinner buffet\, with an array of dishes and appetizers.  Champagne Toast at Midnight.
LOCATION:Classic's Bar & Grill 1301 Oak Street Beatrice\, NE
UID:e.41.1522
SEQUENCE:3
DTSTAMP:20260425T194458Z
URL:https://business.beatricechamber.com/events/details/classic-s-annual-new-year-s-eve-party-12-31-2009-1522
END:VEVENT

END:VCALENDAR
