BEGIN:VCALENDAR
VERSION:2.0
PRODID:-//ChamberMaster//Event Calendar 2.0//EN
METHOD:PUBLISH
X-PUBLISHED-TTL:P3D
REFRESH-INTERVAL:P3D
CALSCALE:GREGORIAN
BEGIN:VEVENT
DTSTART;VALUE=DATE:20110617
DTEND;VALUE=DATE:20110618
TRANSP:TRANSPARENT
X-MICROSOFT-CDO-ALLDAYEVENT:TRUE
SUMMARY:Classical Guitarist Jeremy Hutson and Students in Recital
DESCRIPTION:8:30 p.m. and 9:30 p.m.\, Chautauqua Park\, Beatrice.
X-ALT-DESC;FMTTYPE=text/html:8:30 p.m. and 9:30 p.m.\, Chautauqua Park\, Beatrice.
LOCATION:
UID:e.41.4894
SEQUENCE:3
DTSTAMP:20260424T165856Z
URL:https://business.beatricechamber.com/events/details/classical-guitarist-jeremy-hutson-and-students-in-recital-06-17-2011-4894
END:VEVENT

END:VCALENDAR
