BEGIN:VCALENDAR
VERSION:2.0
PRODID:-//ChamberMaster//Event Calendar 2.0//EN
METHOD:PUBLISH
X-PUBLISHED-TTL:P3D
REFRESH-INTERVAL:P3D
CALSCALE:GREGORIAN
BEGIN:VEVENT
DTSTART;VALUE=DATE:20111025
DTEND;VALUE=DATE:20111026
TRANSP:TRANSPARENT
X-MICROSOFT-CDO-ALLDAYEVENT:TRUE
SUMMARY:Classical Guitarist\, Peter Fletcher at Beatrice Public Library
DESCRIPTION:Classical Guitarist\, Peter Fletcher to Perform at Beatrice Public Library\n\n\n\nTuesday\, October 25\n\n7 pm
X-ALT-DESC;FMTTYPE=text/html:Classical Guitarist\, Peter Fletcher to Perform at Beatrice Public Library<br />\n<br />\nTuesday\, October 25<br />\n7 pm<br />\n<br />\n
LOCATION:
UID:e.41.5208
SEQUENCE:3
DTSTAMP:20260424T111549Z
URL:https://business.beatricechamber.com/events/details/classical-guitarist-peter-fletcher-at-beatrice-public-library-10-25-2011-5208
END:VEVENT

END:VCALENDAR
