BEGIN:VCALENDAR
VERSION:2.0
PRODID:-//ChamberMaster//Event Calendar 2.0//EN
METHOD:PUBLISH
X-PUBLISHED-TTL:P3D
REFRESH-INTERVAL:P3D
CALSCALE:GREGORIAN
BEGIN:VEVENT
DTSTART;VALUE=DATE:20110110
DTEND;VALUE=DATE:20110111
TRANSP:TRANSPARENT
X-MICROSOFT-CDO-ALLDAYEVENT:TRUE
SUMMARY:Classy Cats
DESCRIPTION:Classy Cats\n\n\n\nMonday\, January 10\n\n6:30 p.m.\n\n\n\nBeatrice Senior Center\, 101 N 25th Street\, Beatrice\n\n\n\nChristmas (after) party with donations to Beatrice Food Pantry.  For reservations call 656-4645 or 223-2156
X-ALT-DESC;FMTTYPE=text/html:Classy Cats<br />\n<br />\nMonday\, January 10<br />\n6:30 p.m.<br />\n<br />\nBeatrice Senior Center\, 101 N 25th Street\, Beatrice<br />\n<br />\nChristmas (after) party with donations to Beatrice Food Pantry.&nbsp\; For reservations call 656-4645 or 223-2156
LOCATION:
UID:e.41.2941
SEQUENCE:3
DTSTAMP:20260425T001917Z
URL:https://business.beatricechamber.com/events/details/classy-cats-01-10-2011-2941
END:VEVENT

END:VCALENDAR
