BEGIN:VCALENDAR
VERSION:2.0
PRODID:-//ChamberMaster//Event Calendar 2.0//EN
METHOD:PUBLISH
X-PUBLISHED-TTL:P3D
REFRESH-INTERVAL:P3D
CALSCALE:GREGORIAN
BEGIN:VEVENT
DTSTART:20101208T170000Z
DTEND:20101208T170000Z
X-MICROSOFT-CDO-ALLDAYEVENT:FALSE
SUMMARY:Classy Cats Luncheon
DESCRIPTION:Classy Cats- 11a.m. lucheon\,' The Church house' Diller\, NE. Meet at ESU parking lot\, 900 W. Court\, Beatrice to car pool. Reservations and payment to Carolyn Koenig\, 228-0635.
X-ALT-DESC;FMTTYPE=text/html:<span style="font-size: 16px\;"><strong>Classy Cats- 11a.m. lucheon\,&#39\; The Church house&#39\; Diller\, NE. Meet at ESU parking lot\, 900 W. Court\, Beatrice to car pool. Reservations and payment to Carolyn Koenig\, 228-0635.</strong></span>
LOCATION:
UID:e.41.2857
SEQUENCE:3
DTSTAMP:20260425T014048Z
URL:https://business.beatricechamber.com/events/details/classy-cats-luncheon-12-08-2010-2857
END:VEVENT

END:VCALENDAR
