BEGIN:VCALENDAR
VERSION:2.0
PRODID:-//ChamberMaster//Event Calendar 2.0//EN
METHOD:PUBLISH
X-PUBLISHED-TTL:P3D
REFRESH-INTERVAL:P3D
CALSCALE:GREGORIAN
BEGIN:VEVENT
DTSTART:20110911T153000Z
DTEND:20110911T183000Z
X-MICROSOFT-CDO-ALLDAYEVENT:FALSE
SUMMARY:Clatonia Fire and Rescue Dinner
DESCRIPTION:Clatonia Fire and Rescue Squads will host their annual Windsor Loin Dinner from 10:30 a.m.-1:30 p.m. at the Clatonia Community Center.\n\n\n\nA freewill donation will be accepted.  All proceeds will be used for operating costs of the squads.
X-ALT-DESC;FMTTYPE=text/html:Clatonia Fire and Rescue Squads will host their annual Windsor Loin Dinner from 10:30 a.m.-1:30 p.m. at the Clatonia Community Center.<br />\n<br />\nA freewill donation will be accepted.&nbsp\; All proceeds will be used for operating costs of the squads.
LOCATION:
UID:e.41.5093
SEQUENCE:3
DTSTAMP:20260424T123013Z
URL:https://business.beatricechamber.com/events/details/clatonia-fire-and-rescue-dinner-09-11-2011-5093
END:VEVENT

END:VCALENDAR
