BEGIN:VCALENDAR
VERSION:2.0
PRODID:-//ChamberMaster//Event Calendar 2.0//EN
METHOD:PUBLISH
X-PUBLISHED-TTL:P3D
REFRESH-INTERVAL:P3D
CALSCALE:GREGORIAN
BEGIN:VEVENT
DTSTART:20120909T160000Z
DTEND:20120909T180000Z
X-MICROSOFT-CDO-ALLDAYEVENT:FALSE
SUMMARY:Clatonia Fire & Rescue Windsor Loin Dinner
DESCRIPTION:Windsor Loin Dinner at Clatonia Community Center.
X-ALT-DESC;FMTTYPE=text/html:<p>\n	Windsor Loin Dinner at Clatonia Community Center.</p>\n
LOCATION:Clatonia Community Center
UID:e.41.6641
SEQUENCE:3
DTSTAMP:20260422T091145Z
URL:https://business.beatricechamber.com/events/details/clatonia-fire-rescue-windsor-loin-dinner-09-09-2012-6641
END:VEVENT

END:VCALENDAR
