BEGIN:VCALENDAR
VERSION:2.0
PRODID:-//ChamberMaster//Event Calendar 2.0//EN
METHOD:PUBLISH
X-PUBLISHED-TTL:P3D
REFRESH-INTERVAL:P3D
CALSCALE:GREGORIAN
BEGIN:VEVENT
DTSTART;VALUE=DATE:20110103
DTEND;VALUE=DATE:20110104
TRANSP:TRANSPARENT
X-MICROSOFT-CDO-ALLDAYEVENT:TRUE
SUMMARY:Coffee in Odell
DESCRIPTION:Coffee in Odell\n\n\n\nMonday\, January 3\n\n8:00 - 9:30 a.m.\n\n\n\nOld West Trails Center\n\n\n\nA freewill donation will be accepted.  For more information about the coffees being scheduled every Monday\, call Marilyn Lytle\, 402-766-4275 or Barbara Zarybnicky at 402-766-3780.
X-ALT-DESC;FMTTYPE=text/html:Coffee in Odell<br />\n<br />\nMonday\, January 3<br />\n8:00 - 9:30 a.m.<br />\n<br />\nOld West Trails Center<br />\n<br />\nA freewill donation will be accepted.&nbsp\; For more information about the coffees being scheduled every Monday\, call Marilyn Lytle\, 402-766-4275 or Barbara Zarybnicky at 402-766-3780.&nbsp\; 
LOCATION:
UID:e.41.3149
SEQUENCE:3
DTSTAMP:20260425T003419Z
URL:https://business.beatricechamber.com/events/details/coffee-in-odell-01-03-2011-3149
END:VEVENT

END:VCALENDAR
