BEGIN:VCALENDAR
VERSION:2.0
PRODID:-//ChamberMaster//Event Calendar 2.0//EN
METHOD:PUBLISH
X-PUBLISHED-TTL:P3D
REFRESH-INTERVAL:P3D
CALSCALE:GREGORIAN
BEGIN:VEVENT
DTSTART:20101213T140000Z
DTEND:20101213T153000Z
X-MICROSOFT-CDO-ALLDAYEVENT:FALSE
SUMMARY:Coffee in Odell
DESCRIPTION:Coffee in Odell: will be served from 8-9:30 a.m. Monday at the Old West Trails Center in Odell. A frewill donation will be accepted. For more information about the coffees being scheduled every monday\, call Marilyn Lytle at 402-766-4275\, or Barbara Zarybnicky at 402-766-3780.
X-ALT-DESC;FMTTYPE=text/html:<strong>Coffee in Odell: will be served from 8-9:30 a.m. Monday at the Old West Trails Center in Odell. A frewill donation will be accepted. For more information about the coffees being scheduled every monday\, call Marilyn Lytle at 402-766-4275\, or Barbara Zarybnicky at 402-766-3780.</strong><br />\n
LOCATION:
UID:e.41.2898
SEQUENCE:3
DTSTAMP:20260425T014816Z
URL:https://business.beatricechamber.com/events/details/coffee-in-odell-12-13-2010-2898
END:VEVENT

END:VCALENDAR
