BEGIN:VCALENDAR
VERSION:2.0
PRODID:-//ChamberMaster//Event Calendar 2.0//EN
METHOD:PUBLISH
X-PUBLISHED-TTL:P3D
REFRESH-INTERVAL:P3D
CALSCALE:GREGORIAN
BEGIN:VEVENT
DTSTART;VALUE=DATE:20100226
DTEND;VALUE=DATE:20100227
TRANSP:TRANSPARENT
X-MICROSOFT-CDO-ALLDAYEVENT:TRUE
SUMMARY:Coffee with Senator Wallman
DESCRIPTION:Please join us forCoffee with Senator Wallmanas he delivers a Legislative Update Friday\, February 26\, 20108:30 a.m.Auditorium Conference Room Coffee and Rolls Provided.
X-ALT-DESC;FMTTYPE=text/html:<div style="text-align: center"><span style="font-family: Comic Sans MS"><strong><span style="font-size: medium">Please join us for</span></strong></span></div><div style="text-align: center"><span style="font-family: Comic Sans MS"><strong><span style="font-size: medium">Coffee with Senator Wallman</span></strong></span></div><div style="text-align: center"><strong><span style="font-family: Comic Sans MS"><span style="font-size: small">as he delivers a Legislative Update</span></span></strong></div><div style="text-align: center">&nbsp\;</div><div style="text-align: center"><span style="font-family: Comic Sans MS"><strong><span style="font-size: medium">Friday\, February 26\, 2010</span></strong></span></div><div style="text-align: center"><span style="font-family: Comic Sans MS"><strong><span style="font-size: medium">8:30 a.m.</span></strong></span></div><div style="text-align: center"><span style="font-family: Comic Sans MS"><strong><span style="font-size: medium">Auditorium Conference Room</span></strong></span></div><div style="text-align: center">&nbsp\;</div><div style="text-align: center"><span style="font-family: Comic Sans MS"><strong><span style="font-size: medium">Coffee and Rolls Provided.</span></strong></span></div>
LOCATION:City Auditorium Conference Room205 N 4th StreetBeatrice\, NE
UID:e.41.1611
SEQUENCE:3
DTSTAMP:20260425T164454Z
URL:https://business.beatricechamber.com/events/details/coffee-with-senator-wallman-02-26-2010-1611
END:VEVENT

END:VCALENDAR
