BEGIN:VCALENDAR
VERSION:2.0
PRODID:-//ChamberMaster//Event Calendar 2.0//EN
METHOD:PUBLISH
X-PUBLISHED-TTL:P3D
REFRESH-INTERVAL:P3D
CALSCALE:GREGORIAN
BEGIN:VEVENT
DTSTART:20120312T140000Z
DTEND:20120312T150000Z
X-MICROSOFT-CDO-ALLDAYEVENT:FALSE
SUMMARY:Coffee with Senator Wallman
DESCRIPTION:Beatrice Area Chamber of Commerce is hosting\n\n"Coffee with Senator Wallman"\n\n\n\nheld at The Coffee Co.\n\n1200 N 6th Street\, Beatrice\, NE\n\n\n\nMonday\, March 12\n\n9 am\n\n\n\nJoin us for an update on the current state legislative session.  After a summary update from Senator Wallman\, attendees will have the opportunity to ask questions.\n\n\n\nBeatrice Area Chamber of Commerce\n\n402-223-2338
X-ALT-DESC;FMTTYPE=text/html:Beatrice Area Chamber of Commerce is hosting<br />\n&quot\;Coffee with Senator Wallman&quot\;<br />\n<br />\nheld at The Coffee Co.<br />\n1200 N 6th Street\, Beatrice\, NE<br />\n<br />\nMonday\, March 12<br />\n9 am<br />\n<br />\nJoin us for an update on the current state legislative session.&nbsp\; After a summary update from Senator Wallman\, attendees will have the opportunity to ask questions.<br />\n<br />\nBeatrice Area Chamber of Commerce<br />\n402-223-2338
LOCATION:
UID:e.41.5358
SEQUENCE:3
DTSTAMP:20260422T172217Z
URL:https://business.beatricechamber.com/events/details/coffee-with-senator-wallman-03-12-2012-5358
END:VEVENT

END:VCALENDAR
