BEGIN:VCALENDAR
VERSION:2.0
PRODID:-//ChamberMaster//Event Calendar 2.0//EN
METHOD:PUBLISH
X-PUBLISHED-TTL:P3D
REFRESH-INTERVAL:P3D
CALSCALE:GREGORIAN
BEGIN:VEVENT
DTSTART:20110415T143000Z
DTEND:20110415T150000Z
X-MICROSOFT-CDO-ALLDAYEVENT:FALSE
SUMMARY:Coffee with Senator Wallman
DESCRIPTION:Senator Wallman will give an Legislative Update. Please bring questions you might have for him.
X-ALT-DESC;FMTTYPE=text/html:Senator Wallman will give an Legislative Update. Please bring questions you might have for him.
LOCATION:Aunt Mary's Center - 111 S. 8th St.
UID:e.41.4263
SEQUENCE:3
DTSTAMP:20260424T195034Z
URL:https://business.beatricechamber.com/events/details/coffee-with-senator-wallman-04-15-2011-4263
END:VEVENT

END:VCALENDAR
