BEGIN:VCALENDAR
VERSION:2.0
PRODID:-//ChamberMaster//Event Calendar 2.0//EN
METHOD:PUBLISH
X-PUBLISHED-TTL:P3D
REFRESH-INTERVAL:P3D
CALSCALE:GREGORIAN
BEGIN:VEVENT
DTSTART;VALUE=DATE:20100213
DTEND;VALUE=DATE:20100214
TRANSP:TRANSPARENT
X-MICROSOFT-CDO-ALLDAYEVENT:TRUE
SUMMARY:Color Guard and Percussion Show
DESCRIPTION:Color Guard and Percussion Show:Starts at 10 a.m.O Zone Gymnasium\, Beatrice High School600 Orange Blvd.Beatrice\, NE Flag units and drumlines from 10 high schools and five independent units in Nebraska and Iowa. $5 for adults and $4 for students and seniors.  (No activity passes) Concessions available. Presented by Beatrice High School Music Department and Heartland Winter Arts Association.
X-ALT-DESC;FMTTYPE=text/html:<div><span style="font-size: small">Color Guard and Percussion Show:</span></div><div><span style="font-size: small">Starts at 10 a.m.</span></div><div><span style="font-size: small">O Zone Gymnasium\, Beatrice High School</span></div><div><span style="font-size: small">600 Orange Blvd.</span></div><div><span style="font-size: small">Beatrice\, NE</span></div><div>&nbsp\;</div><div><span style="font-size: small">Flag units and drumlines from 10 high schools and five independent units in Nebraska and Iowa.</span></div><div>&nbsp\;</div><div><span style="font-size: small">$5 for adults and $4 for students and seniors.&nbsp\; (No activity passes)</span></div><div>&nbsp\;</div><div><span style="font-size: small">Concessions available.</span></div><div>&nbsp\;</div><div><span style="font-size: small">Presented by Beatrice High School Music Department and Heartland Winter Arts Association.</span></div>
LOCATION:
UID:e.41.1641
SEQUENCE:3
DTSTAMP:20260425T165328Z
URL:https://business.beatricechamber.com/events/details/color-guard-and-percussion-show-02-13-2010-1641
END:VEVENT

END:VCALENDAR
