BEGIN:VCALENDAR
VERSION:2.0
PRODID:-//ChamberMaster//Event Calendar 2.0//EN
METHOD:PUBLISH
X-PUBLISHED-TTL:P3D
REFRESH-INTERVAL:P3D
CALSCALE:GREGORIAN
BEGIN:VEVENT
DTSTART;VALUE=DATE:20110312
DTEND;VALUE=DATE:20110313
TRANSP:TRANSPARENT
X-MICROSOFT-CDO-ALLDAYEVENT:TRUE
SUMMARY:Color Guard and Percussion Showcase
DESCRIPTION:The BHS music department and the Heartland Winter Arts Association will present a Color Guard and Percussion Showcase this Saturday\, March 12 at 6 p.m. at BHS (O-Zone Gym).\n\n\n\nAdmission for the show is $5 for adults and $4 for students. Concessions will be available.
X-ALT-DESC;FMTTYPE=text/html:The BHS music department and the Heartland Winter Arts Association will present a Color Guard and Percussion Showcase this Saturday\, March 12 at <strong>6 p.m.</strong> at BHS (O-Zone Gym).<br />\n<br />\nAdmission for the show is<strong> <u>$5 for adults</u></strong> and <strong><u>$4 for students</u></strong>. Concessions will be available.
LOCATION:
UID:e.41.4238
SEQUENCE:3
DTSTAMP:20260424T211652Z
URL:https://business.beatricechamber.com/events/details/color-guard-and-percussion-showcase-03-12-2011-4238
END:VEVENT

END:VCALENDAR
