BEGIN:VCALENDAR
VERSION:2.0
PRODID:-//ChamberMaster//Event Calendar 2.0//EN
METHOD:PUBLISH
X-PUBLISHED-TTL:P3D
REFRESH-INTERVAL:P3D
CALSCALE:GREGORIAN
BEGIN:VEVENT
DTSTART;VALUE=DATE:20110619
DTEND;VALUE=DATE:20110620
TRANSP:TRANSPARENT
X-MICROSOFT-CDO-ALLDAYEVENT:TRUE
SUMMARY:"Come and Dine Ministry" on Father's Day
DESCRIPTION:Starts at 10:30 a.m. at First Assembly of God\, 19th and Jackson Streets\, Beatrice.\n\n\n\nNo cost and reservations appreciated.\n\n\n\nFor more information call Rex Vitale at 402-228-3037.
X-ALT-DESC;FMTTYPE=text/html:Starts at 10:30 a.m. at First Assembly of God\, 19th and Jackson Streets\, Beatrice.<br />\n<br />\nNo cost and reservations appreciated.<br />\n<br />\nFor more information call Rex Vitale at 402-228-3037.
LOCATION:
UID:e.41.4893
SEQUENCE:3
DTSTAMP:20260424T165808Z
URL:https://business.beatricechamber.com/events/details/come-and-dine-ministry-on-father-s-day-06-19-2011-4893
END:VEVENT

END:VCALENDAR
