BEGIN:VCALENDAR
VERSION:2.0
PRODID:-//ChamberMaster//Event Calendar 2.0//EN
METHOD:PUBLISH
X-PUBLISHED-TTL:P3D
REFRESH-INTERVAL:P3D
CALSCALE:GREGORIAN
BEGIN:VEVENT
DTSTART;VALUE=DATE:20110320
DTEND;VALUE=DATE:20110321
TRANSP:TRANSPARENT
X-MICROSOFT-CDO-ALLDAYEVENT:TRUE
SUMMARY:Come & Dine Ministry
DESCRIPTION:"Come & Dine Ministry"\n\n\n\nSunday\, March 20\n\n5 p.m.\n\n\n\nFirst Assembly of God\n\n19th & Jackson Streets\n\nBeatrice\, NE\n\n\n\nThere is no cost.  Reservations appreciated\, but not required. \n\nRex Vitale\, 402-228-3037
X-ALT-DESC;FMTTYPE=text/html:&quot\;Come &amp\; Dine Ministry&quot\;<br />\n<br />\nSunday\, March 20<br />\n5 p.m.<br />\n<br />\nFirst Assembly of God<br />\n19th &amp\; Jackson Streets<br />\nBeatrice\, NE<br />\n<br />\nThere is no cost.&nbsp\; Reservations appreciated\, but not required.&nbsp\;<br />\nRex Vitale\, 402-228-3037
LOCATION:
UID:e.41.4250
SEQUENCE:3
DTSTAMP:20260424T211658Z
URL:https://business.beatricechamber.com/events/details/come-dine-ministry-03-20-2011-4250
END:VEVENT

END:VCALENDAR
