BEGIN:VCALENDAR
VERSION:2.0
PRODID:-//ChamberMaster//Event Calendar 2.0//EN
METHOD:PUBLISH
X-PUBLISHED-TTL:P3D
REFRESH-INTERVAL:P3D
CALSCALE:GREGORIAN
BEGIN:VEVENT
DTSTART:20120916T143000Z
DTEND:20120916T173000Z
X-MICROSOFT-CDO-ALLDAYEVENT:FALSE
SUMMARY:Come See the Waffleman
DESCRIPTION:EBBA/Prairie Playground Fundraiser Breakfast\n\n\n\n20 waffles served every 4 minutes/250 an Hour!\n\nAll you can eat Belgian Waffles\, Scrumptious Sausages\, Different Flavored Syrups and Whipped Cream\, Plus Drinks\n\n\n\nBring your friends\, family\, kids & neighbors for waffles and fun!
X-ALT-DESC;FMTTYPE=text/html:EBBA/Prairie Playground Fundraiser Breakfast<br />\n<br />\n20 waffles served every 4 minutes/250 an Hour!<br />\nAll you can eat Belgian Waffles\, Scrumptious Sausages\, Different Flavored Syrups and Whipped Cream\, Plus Drinks<br />\n<br />\nBring your friends\, family\, kids &amp\; neighbors for waffles and fun!
LOCATION:BSDC 3000 Lincoln Blvd. in the Carstens Gym
UID:e.41.6626
SEQUENCE:3
DTSTAMP:20260422T090539Z
URL:https://business.beatricechamber.com/events/details/come-see-the-waffleman-09-16-2012-6626
END:VEVENT

END:VCALENDAR
