BEGIN:VCALENDAR
VERSION:2.0
PRODID:-//ChamberMaster//Event Calendar 2.0//EN
METHOD:PUBLISH
X-PUBLISHED-TTL:P3D
REFRESH-INTERVAL:P3D
CALSCALE:GREGORIAN
BEGIN:VEVENT
DTSTART;VALUE=DATE:20120818
DTEND;VALUE=DATE:20120819
TRANSP:TRANSPARENT
X-MICROSOFT-CDO-ALLDAYEVENT:TRUE
SUMMARY:Comedy night
DESCRIPTION:The CP stage will become a comedy club for one night only on Aug. 18 at 7:30 p.m.\n\n\n\nWe are hosting Nebraska-based stand up comedians Tory Nixon and Mike Hogan for a special comedy night. Tickets are just $10 and can be purchased online\, at the box office\, or the night of the show. (NOTE: This comedy show is not intended for children.)\n\n\n\nClick here to order tickets: https://www.vendini.com/ticket-software.html?e=903636ddd39908a783a833a99b245429&t=tix\n\n\n\nThis special event is being presented as a fundraiser for the theatre.\n\n\n\nLearn more about this event here: http://www.beatricecommunityplayers.com/page.do?acid=50&aid=920
X-ALT-DESC;FMTTYPE=text/html:<span style="color: rgb(51\, 51\, 51)\; font-family: 'lucida grande'\, tahoma\, verdana\, arial\, sans-serif\; font-size: 11px\; line-height: 14px\; text-align: left\; ">The CP stage will become a comedy club for one night only on Aug. 18 at 7:30 p.m.</span><br style="color: rgb(51\, 51\, 51)\; font-family: 'lucida grande'\, tahoma\, verdana\, arial\, sans-serif\; font-size: 11px\; line-height: 14px\; text-align: left\; " />\n<br style="color: rgb(51\, 51\, 51)\; font-family: 'lucida grande'\, tahoma\, verdana\, arial\, sans-serif\; font-size: 11px\; line-height: 14px\; text-align: left\; " />\n<span style="color: rgb(51\, 51\, 51)\; font-family: 'lucida grande'\, tahoma\, verdana\, arial\, sans-serif\; font-size: 11px\; line-height: 14px\; text-align: left\; ">We are hosting Nebraska-based stand up comedians Tory Nixon and Mike Hogan for a special comedy night. Tickets are just $10 and can be purchased online\, at the box office\, or the night of the show. (NOTE: This comedy show is not intended for children.)</span><br style="color: rgb(51\, 51\, 51)\; font-family: 'lucida grande'\, tahoma\, verdana\, arial\, sans-serif\; font-size: 11px\; line-height: 14px\; text-align: left\; " />\n<br style="color: rgb(51\, 51\, 51)\; font-family: 'lucida grande'\, tahoma\, verdana\, arial\, sans-serif\; font-size: 11px\; line-height: 14px\; text-align: left\; " />\n<span style="color: rgb(51\, 51\, 51)\; font-family: 'lucida grande'\, tahoma\, verdana\, arial\, sans-serif\; font-size: 11px\; line-height: 14px\; text-align: left\; ">Click here to order tickets:&nbsp\;</span><a href="https://www.vendini.com/ticket-software.html?e=903636ddd39908a783a833a99b245429&amp\;t=tix" rel="nofollow nofollow" style="cursor: pointer\; color: rgb(59\, 89\, 152)\; text-decoration: none\; font-family: 'lucida grande'\, tahoma\, verdana\, arial\, sans-serif\; font-size: 11px\; line-height: 14px\; text-align: left\; " target="_blank">https://www.vendini.com/<wbr>ticket-software.html?e=9036<wbr>36ddd39908a783a833a99b2454<wbr>29</wbr></wbr><wbr><wbr>&amp\;t=tix</wbr></wbr></wbr></a><br style="color: rgb(51\, 51\, 51)\; font-family: 'lucida grande'\, tahoma\, verdana\, arial\, sans-serif\; font-size: 11px\; line-height: 14px\; text-align: left\; " />\n<br style="color: rgb(51\, 51\, 51)\; font-family: 'lucida grande'\, tahoma\, verdana\, arial\, sans-serif\; font-size: 11px\; line-height: 14px\; text-align: left\; " />\n<wbr><wbr><wbr><wbr><wbr><wbr><span style="color: rgb(51\, 51\, 51)\; font-family: 'lucida grande'\, tahoma\, verdana\, arial\, sans-serif\; font-size: 11px\; line-height: 14px\; text-align: left\; ">This special event is being presented as a fundraiser for the theatre.</span><br style="color: rgb(51\, 51\, 51)\; font-family: 'lucida grande'\, tahoma\, verdana\, arial\, sans-serif\; font-size: 11px\; line-height: 14px\; text-align: left\; " />\n<br style="color: rgb(51\, 51\, 51)\; font-family: 'lucida grande'\, tahoma\, verdana\, arial\, sans-serif\; font-size: 11px\; line-height: 14px\; text-align: left\; " />\n<span style="color: rgb(51\, 51\, 51)\; font-family: 'lucida grande'\, tahoma\, verdana\, arial\, sans-serif\; font-size: 11px\; line-height: 14px\; text-align: left\; ">Learn more about this event here:&nbsp\;</span><a href="http://www.beatricecommunityplayers.com/page.do?acid=50&amp\;aid=920" rel="nofollow nofollow" style="cursor: pointer\; color: rgb(59\, 89\, 152)\; text-decoration: none\; font-family: 'lucida grande'\, tahoma\, verdana\, arial\, sans-serif\; font-size: 11px\; line-height: 14px\; text-align: left\; " target="_blank">http://<wbr>www.beatricecommunityplayer<wbr>s.com</wbr><wbr>/<wbr>page.do?acid=50&amp\;aid=920</wbr></wbr></wbr></a></wbr></wbr></wbr></wbr></wbr></wbr>
LOCATION:
UID:e.41.6599
SEQUENCE:3
DTSTAMP:20260422T100114Z
URL:https://business.beatricechamber.com/events/details/comedy-night-08-18-2012-6599
END:VEVENT

END:VCALENDAR
