BEGIN:VCALENDAR
VERSION:2.0
PRODID:-//ChamberMaster//Event Calendar 2.0//EN
METHOD:PUBLISH
X-PUBLISHED-TTL:P3D
REFRESH-INTERVAL:P3D
CALSCALE:GREGORIAN
BEGIN:VEVENT
DTSTART:20120520T230000Z
DTEND:20120521T020000Z
X-MICROSOFT-CDO-ALLDAYEVENT:FALSE
SUMMARY:Commemoration of Homestead Act's 150th Anniversary Program
DESCRIPTION:
X-ALT-DESC;FMTTYPE=text/html:
LOCATION:Homestead National Monument of America
UID:e.41.5352
SEQUENCE:3
DTSTAMP:20260422T142724Z
URL:https://business.beatricechamber.com/events/details/commemoration-of-homestead-act-s-150th-anniversary-program-05-20-2012-5352
END:VEVENT

END:VCALENDAR
