BEGIN:VCALENDAR
VERSION:2.0
PRODID:-//ChamberMaster//Event Calendar 2.0//EN
METHOD:PUBLISH
X-PUBLISHED-TTL:P3D
REFRESH-INTERVAL:P3D
CALSCALE:GREGORIAN
BEGIN:VEVENT
DTSTART;VALUE=DATE:20110623
DTEND;VALUE=DATE:20110624
TRANSP:TRANSPARENT
X-MICROSOFT-CDO-ALLDAYEVENT:TRUE
SUMMARY:Community Blood Drive
DESCRIPTION:Beatrice Community Blood Drive at the Holiday Inn Express Convention Center in Beatrice.
X-ALT-DESC;FMTTYPE=text/html:Beatrice Community Blood Drive at the Holiday Inn Express Convention Center in Beatrice.<span _fck_bookmark="1" style="display: none">&nbsp\;</span>
LOCATION:
UID:e.41.4925
SEQUENCE:3
DTSTAMP:20260424T165455Z
URL:https://business.beatricechamber.com/events/details/community-blood-drive-06-23-2011-4925
END:VEVENT

END:VCALENDAR
