BEGIN:VCALENDAR
VERSION:2.0
PRODID:-//ChamberMaster//Event Calendar 2.0//EN
METHOD:PUBLISH
X-PUBLISHED-TTL:P3D
REFRESH-INTERVAL:P3D
CALSCALE:GREGORIAN
BEGIN:VEVENT
DTSTART:20100610T120000Z
DTEND:20100610T180000Z
X-MICROSOFT-CDO-ALLDAYEVENT:FALSE
SUMMARY:Community Blood Drive 6.10.2010
DESCRIPTION:American Red Cross Blood Drive7 a.m. - 1 p.m.Thursday\, June 10\, 2010 Holiday Inn Express Convention CenterNorth Hwy 77 To make an appointment\, call 228-0260
X-ALT-DESC;FMTTYPE=text/html:<div><div><strong><span style="font-size: small">American Red Cross Blood Drive</span></strong></div><div><strong><span style="font-size: small">7 a.m. - 1&nbsp\;p.m.</span></strong></div><div><strong><span style="font-size: small">Thursday\, June 10\, 2010</span></strong></div><div>&nbsp\;</div><div><strong><span style="font-size: small">Holiday Inn Express Convention Center</span></strong></div><div><strong><span style="font-size: small">North Hwy 77</span></strong></div><div>&nbsp\;</div><div><strong><span style="font-size: small">To make an appointment\, call 228-0260</span></strong></div></div>
LOCATION:
UID:e.41.1619
SEQUENCE:3
DTSTAMP:20260425T105653Z
URL:https://business.beatricechamber.com/events/details/community-blood-drive-6-10-2010-06-10-2010-1619
END:VEVENT

END:VCALENDAR
