BEGIN:VCALENDAR
VERSION:2.0
PRODID:-//ChamberMaster//Event Calendar 2.0//EN
METHOD:PUBLISH
X-PUBLISHED-TTL:P3D
REFRESH-INTERVAL:P3D
CALSCALE:GREGORIAN
BEGIN:VEVENT
DTSTART;VALUE=DATE:20110609
DTEND;VALUE=DATE:20110610
TRANSP:TRANSPARENT
X-MICROSOFT-CDO-ALLDAYEVENT:TRUE
SUMMARY:Community Cards and Dominoes
DESCRIPTION:1:30 p.m.  Homestead House\, 2300 Lincoln St.\, Beatrice\, NE.  Public invited for fun and refreshments.
X-ALT-DESC;FMTTYPE=text/html:1:30 p.m.&nbsp\; Homestead House\, 2300 Lincoln St.\, Beatrice\, NE.&nbsp\; Public invited for fun and refreshments.
LOCATION:
UID:e.41.4862
SEQUENCE:3
DTSTAMP:20260424T165727Z
URL:https://business.beatricechamber.com/events/details/community-cards-and-dominoes-06-09-2011-4862
END:VEVENT

END:VCALENDAR
