BEGIN:VCALENDAR
VERSION:2.0
PRODID:-//ChamberMaster//Event Calendar 2.0//EN
METHOD:PUBLISH
X-PUBLISHED-TTL:P3D
REFRESH-INTERVAL:P3D
CALSCALE:GREGORIAN
BEGIN:VEVENT
DTSTART;VALUE=DATE:20110714
DTEND;VALUE=DATE:20110715
TRANSP:TRANSPARENT
X-MICROSOFT-CDO-ALLDAYEVENT:TRUE
SUMMARY:Community Cards and Dominoes
DESCRIPTION:Starts at 1:30 p.m. at the Homestead House\, 2300 Lincoln St.\, Beatrice.  Public invited for fun and refreshments.
X-ALT-DESC;FMTTYPE=text/html:<p>\n	Starts at 1:30 p.m. at the Homestead House\, 2300 Lincoln St.\, Beatrice.&nbsp\; Public invited for fun and refreshments.</p>\n
LOCATION:
UID:e.41.4937
SEQUENCE:3
DTSTAMP:20260424T155311Z
URL:https://business.beatricechamber.com/events/details/community-cards-and-dominoes-07-14-2011-4937
END:VEVENT

END:VCALENDAR
