BEGIN:VCALENDAR
VERSION:2.0
PRODID:-//ChamberMaster//Event Calendar 2.0//EN
METHOD:PUBLISH
X-PUBLISHED-TTL:P3D
REFRESH-INTERVAL:P3D
CALSCALE:GREGORIAN
BEGIN:VEVENT
DTSTART;VALUE=DATE:20110113
DTEND;VALUE=DATE:20110114
TRANSP:TRANSPARENT
X-MICROSOFT-CDO-ALLDAYEVENT:TRUE
SUMMARY:Community Cards & Dominoes
DESCRIPTION:Community Cards & Dominoes\n\n\n\nThursday\, January 13\n\n1:30 p.m.\n\n\n\n@ Homestead House\, 2300 Lincoln Street\, Beatrice\n\n\n\nPublic invited for fun & refreshments.
X-ALT-DESC;FMTTYPE=text/html:Community Cards &amp\; Dominoes<br />\n<br />\nThursday\, January 13<br />\n1:30 p.m.<br />\n<br />\n@ Homestead House\, 2300 Lincoln Street\, Beatrice<br />\n<br />\nPublic invited for fun &amp\; refreshments.
LOCATION:
UID:e.41.2946
SEQUENCE:3
DTSTAMP:20260425T003605Z
URL:https://business.beatricechamber.com/events/details/community-cards-dominoes-01-13-2011-2946
END:VEVENT

END:VCALENDAR
