BEGIN:VCALENDAR
VERSION:2.0
PRODID:-//ChamberMaster//Event Calendar 2.0//EN
METHOD:PUBLISH
X-PUBLISHED-TTL:P3D
REFRESH-INTERVAL:P3D
CALSCALE:GREGORIAN
BEGIN:VEVENT
DTSTART;VALUE=DATE:20110310
DTEND;VALUE=DATE:20110311
TRANSP:TRANSPARENT
X-MICROSOFT-CDO-ALLDAYEVENT:TRUE
SUMMARY:Community Cards & Dominoes
DESCRIPTION:Community Cards & Dominoes\n\n\n\nThursday\, March 10\n\n1:30 p.m.\n\n\n\nHomestead House\, 2300 Lincoln Street\, Beatrice\n\n\n\nPublic is invited for fun and refreshments!
X-ALT-DESC;FMTTYPE=text/html:Community Cards &amp\; Dominoes<br />\n<br />\nThursday\, March 10<br />\n1:30 p.m.<br />\n<br />\nHomestead House\, 2300 Lincoln Street\, Beatrice<br />\n<br />\nPublic is invited for fun and refreshments!
LOCATION:
UID:e.41.4195
SEQUENCE:3
DTSTAMP:20260424T212308Z
URL:https://business.beatricechamber.com/events/details/community-cards-dominoes-03-10-2011-4195
END:VEVENT

END:VCALENDAR
