BEGIN:VCALENDAR
VERSION:2.0
PRODID:-//ChamberMaster//Event Calendar 2.0//EN
METHOD:PUBLISH
X-PUBLISHED-TTL:P3D
REFRESH-INTERVAL:P3D
CALSCALE:GREGORIAN
BEGIN:VEVENT
DTSTART:20120412T183000Z
DTEND:20120413T030000Z
X-MICROSOFT-CDO-ALLDAYEVENT:FALSE
SUMMARY:Community Cards & Dominoes
DESCRIPTION:Public invited for fun and refreshment
X-ALT-DESC;FMTTYPE=text/html:Public invited for fun and refreshment
LOCATION:Homestead House\, 2300 Lincoln St.\, Beatrice
UID:e.41.5444
SEQUENCE:3
DTSTAMP:20260422T154933Z
URL:https://business.beatricechamber.com/events/details/community-cards-dominoes-04-12-2012-5444
END:VEVENT

END:VCALENDAR
