BEGIN:VCALENDAR
VERSION:2.0
PRODID:-//ChamberMaster//Event Calendar 2.0//EN
METHOD:PUBLISH
X-PUBLISHED-TTL:P3D
REFRESH-INTERVAL:P3D
CALSCALE:GREGORIAN
BEGIN:VEVENT
DTSTART;VALUE=DATE:20100513
DTEND;VALUE=DATE:20100514
TRANSP:TRANSPARENT
X-MICROSOFT-CDO-ALLDAYEVENT:TRUE
SUMMARY:Community Cards & Dominoes
DESCRIPTION:Community Cards & Dominoes1:30 p.m.Homestead House Public invited for fun and refreshments.  Second Thursday of every month!
X-ALT-DESC;FMTTYPE=text/html:<div>Community Cards &amp\; Dominoes</div><div>1:30 p.m.</div><div>Homestead House</div><div>&nbsp\;</div><div>Public invited for fun and refreshments.&nbsp\; Second Thursday of every month!</div>
LOCATION:Homestead House2300 Lincoln StBeatrice\, NE
UID:e.41.1605
SEQUENCE:3
DTSTAMP:20260425T122742Z
URL:https://business.beatricechamber.com/events/details/community-cards-dominoes-05-13-2010-1605
END:VEVENT

END:VCALENDAR
