BEGIN:VCALENDAR
VERSION:2.0
PRODID:-//ChamberMaster//Event Calendar 2.0//EN
METHOD:PUBLISH
X-PUBLISHED-TTL:P3D
REFRESH-INTERVAL:P3D
CALSCALE:GREGORIAN
BEGIN:VEVENT
DTSTART;VALUE=DATE:20110811
DTEND;VALUE=DATE:20110812
TRANSP:TRANSPARENT
X-MICROSOFT-CDO-ALLDAYEVENT:TRUE
SUMMARY:Community Cards & Dominoes
DESCRIPTION:1:30 p.m.  Homestead House\, 2300 Lincoln St.\, Beatrice.  Public invited for fun and refreshments.
X-ALT-DESC;FMTTYPE=text/html:1:30 p.m.&nbsp\; Homestead House\, 2300 Lincoln St.\, Beatrice.&nbsp\; Public invited for fun and refreshments.
LOCATION:
UID:e.41.5005
SEQUENCE:3
DTSTAMP:20260424T135136Z
URL:https://business.beatricechamber.com/events/details/community-cards-dominoes-08-11-2011-5005
END:VEVENT

END:VCALENDAR
